BEGIN:VCALENDAR
VERSION:2.0
PRODID:-//Musikschule Pinggau - ECPv5.4.0.1//NONSGML v1.0//EN
CALSCALE:GREGORIAN
METHOD:PUBLISH
X-WR-CALNAME:Musikschule Pinggau
X-ORIGINAL-URL:https://www.musikschule-pinggau.at
X-WR-CALDESC:Veranstaltungen für Musikschule Pinggau
BEGIN:VTIMEZONE
TZID:Europe/Vienna
BEGIN:DAYLIGHT
TZOFFSETFROM:+0100
TZOFFSETTO:+0200
TZNAME:CEST
DTSTART:20220327T010000
END:DAYLIGHT
BEGIN:STANDARD
TZOFFSETFROM:+0200
TZOFFSETTO:+0100
TZNAME:CET
DTSTART:20221030T010000
END:STANDARD
END:VTIMEZONE
BEGIN:VEVENT
DTSTART;VALUE=DATE:20220620
DTEND;VALUE=DATE:20220625
DTSTAMP:20260421T164302
CREATED:20220216T124336Z
LAST-MODIFIED:20220609T072556Z
UID:10471-1655683200-1656115199@www.musikschule-pinggau.at
SUMMARY:Woche der offenen Klassentür
DESCRIPTION:Die Lehrer freuen sich auf Ihren Besuch!\nWoche der offenen Klassentür 2022 \nZeiteinteilung 2022
URL:https://www.musikschule-pinggau.at/veranstaltung/woche-der-offenen-klassentuer-2/
LOCATION:Musikschule Pinggau\, Schulstraße 17a\, Pinggau\, 8243\, Österreich
CATEGORIES:Veranstaltung
END:VEVENT
END:VCALENDAR