BEGIN:VCALENDAR
VERSION:2.0
PRODID:-//Musikschule Pinggau - ECPv5.4.0.1//NONSGML v1.0//EN
CALSCALE:GREGORIAN
METHOD:PUBLISH
X-WR-CALNAME:Musikschule Pinggau
X-ORIGINAL-URL:https://www.musikschule-pinggau.at
X-WR-CALDESC:Veranstaltungen für Musikschule Pinggau
BEGIN:VTIMEZONE
TZID:Europe/Vienna
BEGIN:DAYLIGHT
TZOFFSETFROM:+0100
TZOFFSETTO:+0200
TZNAME:CEST
DTSTART:20220327T010000
END:DAYLIGHT
BEGIN:STANDARD
TZOFFSETFROM:+0200
TZOFFSETTO:+0100
TZNAME:CET
DTSTART:20221030T010000
END:STANDARD
END:VTIMEZONE
BEGIN:VEVENT
DTSTART;TZID=Europe/Vienna:20220614T190000
DTEND;TZID=Europe/Vienna:20220614T190000
DTSTAMP:20260421T145524
CREATED:20220216T124152Z
LAST-MODIFIED:20220216T124152Z
UID:10468-1655233200-1655233200@www.musikschule-pinggau.at
SUMMARY:Musischer Abend in Dechantskirchen
DESCRIPTION:Es musizieren die Schülerinnen und Schüler der Musikschule Pinggau!
URL:https://www.musikschule-pinggau.at/veranstaltung/musischer-abend-in-dechantskirchen/
LOCATION:Musikhaus Dechantskirchen\, Am Gewerbepark 1\, Dechantskirchen\, 8241
CATEGORIES:Veranstaltung
ORGANIZER;CN="Musikschule%20Pinggau":MAILTO:musikschule@pinggau.gv.at
END:VEVENT
END:VCALENDAR